BEGIN:VCALENDAR
VERSION:2.0
PRODID:-//STU
CALSCALE:GREGORIAN
METHOD:PUBLISH
X-WR-CALNAME:STU
X-ORIGINAL-URL:https://www.nusta.edu.ua/event/%d1%86%d0%b5%d0%bd%d1%82%d1%80-%d1%82%d0%b2%d0%be%d1%80%d1%87%d0%be%d0%b3%d0%be-%d1%80%d0%be%d0%b7%d0%b2%d0%b8%d1%82%d0%ba%d1%83-%d0%b7%d0%b0%d0%bf%d1%80%d0%be%d1%88%d1%83%d1%94-%d0%bd%d0%b0-%d0%bd/
X-WR-CALDESC:Центр творчого розвитку запрошує на навчання дорослих та дітей
BEGIN:VEVENT
DTSTART:20181130T000000
DTEND:
SUMMARY:Центр творчого розвитку запрошує на навчання дорослих та дітей
DESCRIPTION:
LOCATION:
END:VEVENT
END:VCALENDAR
