BEGIN:VCALENDAR
VERSION:2.0
PRODID:-//STU
CALSCALE:GREGORIAN
METHOD:PUBLISH
X-WR-CALNAME:STU
X-ORIGINAL-URL:https://www.nusta.edu.ua/event/%d0%b5%d0%ba%d1%81%d0%ba%d1%83%d1%80%d1%81%d1%96%d1%8f-%d0%bd%d0%b0-%d0%bf%d0%b0%d1%80%d0%be%d0%bf%d0%bb%d0%b0%d0%b2%d1%96-%d0%b4%d0%be-%d0%bd%d0%b0%d1%86%d1%96%d0%be%d0%bd%d0%b0%d0%bb%d1%8c%d0%bd/
X-WR-CALDESC:Екскурсія на пароплаві до Національного заповідника Межигір&#8217;я
BEGIN:VEVENT
DTSTART:20180801T110000
DTEND:20180801T180000
SUMMARY:Екскурсія на пароплаві до Національного заповідника Межигір&#8217;я
DESCRIPTION:
LOCATION:
END:VEVENT
END:VCALENDAR
