BEGIN:VCALENDAR
VERSION:2.0
PRODID:-//STU
CALSCALE:GREGORIAN
METHOD:PUBLISH
X-WR-CALNAME:STU
X-ORIGINAL-URL:https://www.nusta.edu.ua/event/%d0%b5%d0%ba%d1%81%d0%ba%d1%83%d1%80%d1%81%d1%96%d1%8f-%d0%b4%d0%be-%d0%bc%d1%96%d1%81%d1%82%d0%b0-%d0%ba%d0%be%d1%80%d0%be%d1%81%d1%82%d0%b5%d0%bd%d1%8c-%d0%bd%d0%b0-%d1%84%d0%b5%d1%81%d1%82%d0%b8/
X-WR-CALDESC:Екскурсія до міста Коростень на фестиваль дерунів
BEGIN:VEVENT
DTSTART:20180908T000000
DTEND:
SUMMARY:Екскурсія до міста Коростень на фестиваль дерунів
DESCRIPTION:
LOCATION:
END:VEVENT
END:VCALENDAR
