BEGIN:VCALENDAR
VERSION:2.0
PRODID:-//STU
CALSCALE:GREGORIAN
METHOD:PUBLISH
X-WR-CALNAME:STU
X-ORIGINAL-URL:https://www.nusta.edu.ua/event/20-%d1%80%d1%96%d1%87%d1%87%d1%8f-%d1%81%d1%82%d0%b2%d0%be%d1%80%d0%b5%d0%bd%d0%bd%d1%8f-%d0%ba%d0%b0%d1%84%d0%b5%d0%b4%d1%80%d0%b8-%d1%82%d0%be%d0%b2%d0%b0%d1%80%d0%be%d0%b7%d0%bd%d0%b0%d0%b2%d1%81/
X-WR-CALDESC:20 річчя створення кафедри Товарознавства та  техногенно-екологічної безпеки
BEGIN:VEVENT
DTSTART:20180906T000000
DTEND:
SUMMARY:20 річчя створення кафедри Товарознавства та  техногенно-екологічної безпеки
DESCRIPTION:
LOCATION:
END:VEVENT
END:VCALENDAR
