BEGIN:VCALENDAR
VERSION:2.0
PRODID:-//STU
CALSCALE:GREGORIAN
METHOD:PUBLISH
X-WR-CALNAME:STU
X-ORIGINAL-URL:https://www.nusta.edu.ua/event/%d0%b2%d1%81%d1%82%d1%83%d0%bf%d0%bd%d0%b0-%d0%ba%d0%b0%d0%bc%d0%bf%d0%b0%d0%bd%d1%96%d1%8f-2018-%d0%b4%d1%80%d1%83%d0%b3%d0%b0-%d1%85%d0%b2%d0%b8%d0%bb%d1%8f/
X-WR-CALDESC:Вступна кампанія 2018. Друга хвиля
BEGIN:VEVENT
DTSTART:20180905T000000
DTEND:20180918T000000
SUMMARY:Вступна кампанія 2018. Друга хвиля
DESCRIPTION:
LOCATION:
END:VEVENT
END:VCALENDAR
