BEGIN:VCALENDAR
VERSION:2.0
PRODID:-//STU
CALSCALE:GREGORIAN
METHOD:PUBLISH
X-WR-CALNAME:STU
X-ORIGINAL-URL:https://www.nusta.edu.ua/event/%d0%b7%d0%b0%d1%81%d1%96%d0%b4%d0%b0%d0%bd%d0%bd%d1%8f-%d0%b2%d1%87%d0%b5%d0%bd%d0%be%d1%97-%d1%80%d0%b0%d0%b4%d0%b8-4/
X-WR-CALDESC:Засідання Вченої ради
BEGIN:VEVENT
DTSTART:20180927T140000
DTEND:
SUMMARY:Засідання Вченої ради
DESCRIPTION:
LOCATION:
END:VEVENT
END:VCALENDAR
