BEGIN:VCALENDAR
VERSION:2.0
PRODID:-//STU
CALSCALE:GREGORIAN
METHOD:PUBLISH
X-WR-CALNAME:STU
X-ORIGINAL-URL:https://www.nusta.edu.ua/event/%d1%96%d0%bd%d1%82%d0%b5%d0%bb%d0%b5%d0%ba%d1%82%d1%83%d0%b0%d0%bb%d1%8c%d0%bd%d0%be-%d1%80%d0%be%d0%b7%d0%b2%d0%b0%d0%b6%d0%b0%d0%bb%d1%8c%d0%bd%d0%b0-%d0%b3%d1%80%d0%b0-quiz/
X-WR-CALDESC:Інтелектуально-розважальна гра &#8220;QUIZ&#8221;
BEGIN:VEVENT
DTSTART:20180916T000000
DTEND:
SUMMARY:Інтелектуально-розважальна гра &#8220;QUIZ&#8221;
DESCRIPTION:
LOCATION:
END:VEVENT
END:VCALENDAR
