BEGIN:VCALENDAR
VERSION:2.0
PRODID:-//STU
CALSCALE:GREGORIAN
METHOD:PUBLISH
X-WR-CALNAME:STU
X-ORIGINAL-URL:https://www.nusta.edu.ua/event/17360/
X-WR-CALDESC:Розклад засідань Вченої ради
BEGIN:VEVENT
DTSTART:20180920T110000
DTEND:20180921T120000
SUMMARY:Розклад засідань Вченої ради
DESCRIPTION:
LOCATION:
END:VEVENT
END:VCALENDAR
