BEGIN:VCALENDAR
VERSION:2.0
PRODID:-//STU
CALSCALE:GREGORIAN
METHOD:PUBLISH
X-WR-CALNAME:STU
X-ORIGINAL-URL:https://www.nusta.edu.ua/event/%d1%96%d1%96-%d0%bc%d1%96%d0%b6%d0%bd%d0%b0%d1%80%d0%be%d0%b4%d0%bd%d0%b0-%d0%bd%d0%b0%d1%83%d0%ba%d0%be%d0%b2%d0%be-%d0%bf%d1%80%d0%b0%d0%ba%d1%82%d0%b8%d1%87%d0%bd%d0%b0-%d0%ba%d0%be%d0%bd%d1%84/
X-WR-CALDESC:ІІ Міжнародна науково-практична конференція «Економічні перспективи підприємництва в Україні»
BEGIN:VEVENT
DTSTART:
DTEND:
SUMMARY:ІІ Міжнародна науково-практична конференція «Економічні перспективи підприємництва в Україні»
DESCRIPTION:
LOCATION:
END:VEVENT
END:VCALENDAR
