BEGIN:VCALENDAR
VERSION:2.0
PRODID:-//STU
CALSCALE:GREGORIAN
METHOD:PUBLISH
X-WR-CALNAME:STU
X-ORIGINAL-URL:https://www.nusta.edu.ua/event/%d0%bb%d0%b5%d0%ba%d1%86%d1%96%d1%8f-%d0%bd%d0%b0-%d1%82%d0%b5%d0%bc%d1%83-%d1%82%d0%b0%d0%ba%d1%82%d0%b8%d0%ba%d0%b0-%d0%b2%d0%b8%d0%ba%d0%be%d1%80%d0%b8%d1%81%d1%82%d0%b0%d0%bd%d0%bd%d1%8f-%d1%81/
X-WR-CALDESC:Лекція на тему: &#8220;Тактика використання спеціальних знань у кримінальному судочинстві&#8221;
BEGIN:VEVENT
DTSTART:20181008T143000
DTEND:
SUMMARY:Лекція на тему: &#8220;Тактика використання спеціальних знань у кримінальному судочинстві&#8221;
DESCRIPTION:
LOCATION:
END:VEVENT
END:VCALENDAR
