BEGIN:VCALENDAR
VERSION:2.0
PRODID:-//STU
CALSCALE:GREGORIAN
METHOD:PUBLISH
X-WR-CALNAME:STU
X-ORIGINAL-URL:https://www.nusta.edu.ua/event/%d0%bc%d0%b5%d1%82%d0%be%d0%b4%d0%b8%d1%87%d0%bd%d0%b8%d0%b9-%d1%81%d0%b5%d0%bc%d1%96%d0%bd%d0%b0%d1%80-%d0%ba%d1%80%d0%b8%d0%bf%d1%82%d0%be%d0%b2%d0%b0%d0%bb%d1%8e%d1%82%d0%b0/
X-WR-CALDESC:Методичний семінар &#8220;Криптовалюта&#8221;
BEGIN:VEVENT
DTSTART:
DTEND:
SUMMARY:Методичний семінар &#8220;Криптовалюта&#8221;
DESCRIPTION:
LOCATION:
END:VEVENT
END:VCALENDAR
