BEGIN:VCALENDAR
VERSION:2.0
PRODID:-//STU
CALSCALE:GREGORIAN
METHOD:PUBLISH
X-WR-CALNAME:STU
X-ORIGINAL-URL:https://www.nusta.edu.ua/event/%d0%bf%d1%80%d0%b8%d1%81%d1%8f%d0%b3%d0%b8-%d0%ba%d1%83%d1%80%d1%81%d0%b0%d0%bd%d1%82%d1%96%d0%b2-1-%d0%b3%d0%be-%d0%ba%d1%83%d1%80%d1%81%d1%83/
X-WR-CALDESC:Присяга курсантів 1-го курсу
BEGIN:VEVENT
DTSTART:
DTEND:
SUMMARY:Присяга курсантів 1-го курсу
DESCRIPTION:
LOCATION:
END:VEVENT
END:VCALENDAR
