BEGIN:VCALENDAR
VERSION:2.0
PRODID:-//STU
CALSCALE:GREGORIAN
METHOD:PUBLISH
X-WR-CALNAME:STU
X-ORIGINAL-URL:https://www.nusta.edu.ua/event/18261/
X-WR-CALDESC:Майстер-клас «Приватна детективна (розшукова) діяльність»
BEGIN:VEVENT
DTSTART:20181030T133000
DTEND:
SUMMARY:Майстер-клас «Приватна детективна (розшукова) діяльність»
DESCRIPTION:
LOCATION:
END:VEVENT
END:VCALENDAR
