BEGIN:VCALENDAR
VERSION:2.0
PRODID:-//STU
CALSCALE:GREGORIAN
METHOD:PUBLISH
X-WR-CALNAME:STU
X-ORIGINAL-URL:https://www.nusta.edu.ua/event/%d1%89%d0%be%d0%b4%d0%be-%d0%be%d0%b1%d0%b3%d0%be%d0%b2%d0%be%d1%80%d0%b5%d0%bd%d0%bd%d1%8f-%d0%bf%d0%be%d0%bb%d0%be%d0%b6%d0%b5%d0%bd%d1%8c-%d0%bf%d1%80%d0%be-%d0%be%d1%80%d0%b3%d0%b0%d0%bd%d0%b8/
X-WR-CALDESC:Обговорення положень про органи студентського самоврядування
BEGIN:VEVENT
DTSTART:
DTEND:
SUMMARY:Обговорення положень про органи студентського самоврядування
DESCRIPTION:
LOCATION:
END:VEVENT
END:VCALENDAR
