BEGIN:VCALENDAR
VERSION:2.0
PRODID:-//STU
CALSCALE:GREGORIAN
METHOD:PUBLISH
X-WR-CALNAME:STU
X-ORIGINAL-URL:https://www.nusta.edu.ua/event/%d1%81%d0%b5%d0%bc%d1%96%d0%bd%d0%b0%d1%80-%d1%82%d1%80%d0%b5%d0%bd%d1%96%d0%bd%d0%b3-%d1%96%d0%bd%d1%81%d1%82%d0%b8%d1%82%d1%83%d1%86%d1%96%d0%b9%d0%bd%d0%b8%d0%b9-%d1%80%d0%b5%d0%bf%d0%be%d0%b7/
X-WR-CALDESC:Семінар-тренінг &#8220;Інституційний репозитарій УДФСУ: переваги вільного доступу до якісної інформації&#8221;
BEGIN:VEVENT
DTSTART:20181023T000000
DTEND:
SUMMARY:Семінар-тренінг &#8220;Інституційний репозитарій УДФСУ: переваги вільного доступу до якісної інформації&#8221;
DESCRIPTION:
LOCATION:
END:VEVENT
END:VCALENDAR
