BEGIN:VCALENDAR
VERSION:2.0
PRODID:-//STU
CALSCALE:GREGORIAN
METHOD:PUBLISH
X-WR-CALNAME:STU
X-ORIGINAL-URL:https://www.nusta.edu.ua/event/%d0%be%d0%bb%d1%96%d0%bc%d0%bf%d1%96%d0%b0%d0%b4%d0%b0-%d0%b7-%d0%bc%d0%b0%d1%82%d0%b5%d0%bc%d0%b0%d1%82%d0%b8%d0%ba%d0%b8-%d0%b4%d0%bb%d1%8f-%d1%83%d1%87%d0%bd%d1%96%d0%b2-10-11/
X-WR-CALDESC:Олімпіада з математики для учнів 10-11 класів
BEGIN:VEVENT
DTSTART:20181027T000000
DTEND:
SUMMARY:Олімпіада з математики для учнів 10-11 класів
DESCRIPTION:
LOCATION:
END:VEVENT
END:VCALENDAR
