BEGIN:VCALENDAR
VERSION:2.0
PRODID:-//STU
CALSCALE:GREGORIAN
METHOD:PUBLISH
X-WR-CALNAME:STU
X-ORIGINAL-URL:https://www.nusta.edu.ua/event/%d1%84%d0%be%d0%bd%d0%b4-%d0%b2%d1%96%d0%ba%d1%82%d0%be%d1%80%d0%b0-%d0%bf%d1%96%d0%bd%d1%87%d1%83%d0%ba%d0%b0-%d1%80%d0%be%d0%b7%d0%bf%d0%be%d1%87%d0%b8%d0%bd%d0%b0%d1%94-13-%d0%b9-%d0%ba%d0%be%d0%bd/
X-WR-CALDESC:Фонд Віктора Пінчука розпочинає 13-й конкурс  стипендіальної програми «Завтра.UA»
BEGIN:VEVENT
DTSTART:20181017T000000
DTEND:20181130T000000
SUMMARY:Фонд Віктора Пінчука розпочинає 13-й конкурс  стипендіальної програми «Завтра.UA»
DESCRIPTION:
LOCATION:
END:VEVENT
END:VCALENDAR
