BEGIN:VCALENDAR
VERSION:2.0
PRODID:-//STU
CALSCALE:GREGORIAN
METHOD:PUBLISH
X-WR-CALNAME:STU
X-ORIGINAL-URL:https://www.nusta.edu.ua/event/%d0%ba%d1%80%d1%83%d0%b3%d0%bb%d0%b8%d0%b9-%d1%81%d1%82%d1%96%d0%bb-%d1%96%d0%bd%d0%be%d0%b7%d0%b5%d0%bc%d0%bd%d0%b8%d0%bc%d0%b8-%d0%bc%d0%be%d0%b2%d0%b0%d0%bc%d0%b8-%d1%96%d0%bd%d1%82%d0%b5/
X-WR-CALDESC:Круглий стіл іноземними мовами «Інтелектуальна власність: юридична форма-економічний зміст»
BEGIN:VEVENT
DTSTART:20181123T093000
DTEND:20181123T120000
SUMMARY:Круглий стіл іноземними мовами «Інтелектуальна власність: юридична форма-економічний зміст»
DESCRIPTION:
LOCATION:
END:VEVENT
END:VCALENDAR
