BEGIN:VCALENDAR
VERSION:2.0
PRODID:-//STU
CALSCALE:GREGORIAN
METHOD:PUBLISH
X-WR-CALNAME:STU
X-ORIGINAL-URL:https://www.nusta.edu.ua/event/%d0%b7%d1%83%d1%81%d1%82%d1%80%d1%96%d1%87-%d1%96%d0%b7-%d0%b0%d0%b4%d0%b2%d0%be%d0%ba%d0%b0%d1%82%d0%b0%d0%bc%d0%b8-%d1%82%d0%b0-%d0%bf%d0%b0%d1%80%d1%82%d0%bd%d0%b5%d1%80%d0%b0%d0%bc%d0%b8-%d0%b0/
X-WR-CALDESC:Зустріч із адвокатами та партнерами АПК &#8220;Конфідент&#8221;
BEGIN:VEVENT
DTSTART:20181107T000000
DTEND:
SUMMARY:Зустріч із адвокатами та партнерами АПК &#8220;Конфідент&#8221;
DESCRIPTION:
LOCATION:
END:VEVENT
END:VCALENDAR
