BEGIN:VCALENDAR
VERSION:2.0
PRODID:-//STU
CALSCALE:GREGORIAN
METHOD:PUBLISH
X-WR-CALNAME:STU
X-ORIGINAL-URL:https://www.nusta.edu.ua/event/%d1%96%d0%bd%d1%82%d0%b5%d0%bb%d0%b5%d0%ba%d1%82%d1%83%d0%b0%d0%bb%d1%8c%d0%bd%d0%be-%d1%80%d0%be%d0%b7%d0%b2%d0%b0%d0%b6%d0%b0%d0%bb%d1%8c%d0%bd%d0%b8%d0%b9-%d0%ba%d0%be%d0%bd%d0%ba%d1%83%d1%80%d1%81/
X-WR-CALDESC:Інтелектуально-розважальний конкурс &#8220;Брейн-ринг&#8221;
BEGIN:VEVENT
DTSTART:20181127T000000
DTEND:
SUMMARY:Інтелектуально-розважальний конкурс &#8220;Брейн-ринг&#8221;
DESCRIPTION:
LOCATION:
END:VEVENT
END:VCALENDAR
