BEGIN:VCALENDAR
VERSION:2.0
PRODID:-//STU
CALSCALE:GREGORIAN
METHOD:PUBLISH
X-WR-CALNAME:STU
X-ORIGINAL-URL:https://www.nusta.edu.ua/event/%d0%b2%d1%96%d0%b4%d0%b1%d1%83%d0%b4%d0%b5%d1%82%d1%8c%d1%81%d1%8f-%d0%b7%d1%83%d1%81%d1%82%d1%80%d1%96%d1%87-%d0%b2%d0%b8%d0%bf%d1%83%d1%81%d0%ba%d0%bd%d0%b8%d0%ba%d1%96%d0%b2/
X-WR-CALDESC:Відбудеться зустріч випускників
BEGIN:VEVENT
DTSTART:20190601T000000
DTEND:
SUMMARY:Відбудеться зустріч випускників
DESCRIPTION:
LOCATION:
END:VEVENT
END:VCALENDAR
