BEGIN:VCALENDAR
VERSION:2.0
PRODID:-//STU
CALSCALE:GREGORIAN
METHOD:PUBLISH
X-WR-CALNAME:STU
X-ORIGINAL-URL:https://www.nusta.edu.ua/event/%d0%b2%d1%96%d0%b4%d0%b1%d1%83%d0%b4%d0%b5%d1%82%d1%8c%d1%81%d1%8f-%d0%b2%d1%81%d0%b5%d1%83%d0%ba%d1%80%d0%b0%d1%97%d0%bd%d1%81%d1%8c%d0%ba%d0%b8%d0%b9-%d0%bc%d0%b0%d1%82%d0%b5%d0%bc%d0%b0%d1%82%d0%b8/
X-WR-CALDESC:Відбудеться Всеукраїнський математичний Інтернет-конкурс «Інтеграл»
BEGIN:VEVENT
DTSTART:20190408T000000
DTEND:20190507T000000
SUMMARY:Відбудеться Всеукраїнський математичний Інтернет-конкурс «Інтеграл»
DESCRIPTION:
LOCATION:
END:VEVENT
END:VCALENDAR
