BEGIN:VCALENDAR
VERSION:2.0
PRODID:-//STU
CALSCALE:GREGORIAN
METHOD:PUBLISH
X-WR-CALNAME:STU
X-ORIGINAL-URL:https://www.nusta.edu.ua/event/%d1%89%d0%be%d0%b4%d0%be-%d0%be%d0%bd%d0%be%d0%b2%d0%bb%d0%b5%d0%bd%d0%bd%d1%8f-%d0%ba%d0%be%d0%bd%d1%82%d1%80%d0%be%d0%bb%d1%8c%d0%bd%d0%be%d0%b3%d0%be-%d1%81%d0%bf%d0%b8%d1%81%d0%ba%d1%83-%d0%bf/
X-WR-CALDESC:Щодо оновлення контрольного списку працівників, які перебувають на квартирному обліку
BEGIN:VEVENT
DTSTART:20190502T000000
DTEND:20190601T000000
SUMMARY:Щодо оновлення контрольного списку працівників, які перебувають на квартирному обліку
DESCRIPTION:
LOCATION:
END:VEVENT
END:VCALENDAR
