BEGIN:VCALENDAR
VERSION:2.0
PRODID:-//STU
CALSCALE:GREGORIAN
METHOD:PUBLISH
X-WR-CALNAME:STU
X-ORIGINAL-URL:https://www.nusta.edu.ua/event/%d0%b7-%d0%b4%d0%bd%d0%b5%d0%bc-%d1%81%d1%82%d1%83%d0%b4%d0%b5%d0%bd%d1%82%d0%b0/
X-WR-CALDESC:Привітання з Днем студента!
BEGIN:VEVENT
DTSTART:
DTEND:
SUMMARY:Привітання з Днем студента!
DESCRIPTION:
LOCATION:
END:VEVENT
END:VCALENDAR
