BEGIN:VCALENDAR
VERSION:2.0
PRODID:-//STU
CALSCALE:GREGORIAN
METHOD:PUBLISH
X-WR-CALNAME:STU
X-ORIGINAL-URL:https://www.nusta.edu.ua/event/%d0%b7-19-%d0%bf%d0%be-30-%d0%bb%d0%b8%d1%81%d1%82%d0%be%d0%bf%d0%be%d0%b4%d0%b0-%d0%b2%d1%96%d0%b4%d0%b1%d1%83%d0%b4%d0%b5%d1%82%d1%8c%d1%81%d1%8f-%d0%b4%d0%b5%d0%ba%d0%b0%d0%b4%d0%b0-%d0%b2%d1%96/
X-WR-CALDESC:З 19 по 30 листопада 2019 року відбудеться декада військової кафедри!
BEGIN:VEVENT
DTSTART:
DTEND:
SUMMARY:З 19 по 30 листопада 2019 року відбудеться декада військової кафедри!
DESCRIPTION:
LOCATION:
END:VEVENT
END:VCALENDAR
