BEGIN:VCALENDAR
VERSION:2.0
PRODID:-//STU
CALSCALE:GREGORIAN
METHOD:PUBLISH
X-WR-CALNAME:STU
X-ORIGINAL-URL:https://www.nusta.edu.ua/event/%d0%be%d0%b3%d0%be%d0%bb%d0%be%d1%88%d0%b5%d0%bd%d0%bd%d1%8f-%d1%89%d0%be%d0%b4%d0%be-%d0%b7%d0%b0%d1%81%d1%96%d0%b4%d0%b0%d0%bd%d1%8c-%d0%ba%d0%be%d0%bc%d1%96%d1%81%d1%96%d0%b9-%d0%b2%d1%87%d0%b5-2/
X-WR-CALDESC:Оголошення щодо засідань комісій Вченої ради на грудень
BEGIN:VEVENT
DTSTART:20191213T000000
DTEND:20191216T000000
SUMMARY:Оголошення щодо засідань комісій Вченої ради на грудень
DESCRIPTION:
LOCATION:
END:VEVENT
END:VCALENDAR
