BEGIN:VCALENDAR
VERSION:2.0
PRODID:-//STU
CALSCALE:GREGORIAN
METHOD:PUBLISH
X-WR-CALNAME:STU
X-ORIGINAL-URL:https://www.nusta.edu.ua/event/%d0%b7%d0%b0%d0%bf%d1%80%d0%be%d1%88%d1%83%d1%94%d0%bc%d0%be-%d0%bd%d0%b0-%d0%bd%d0%be%d0%b2%d0%be%d1%80%d1%96%d1%87%d0%bd%d0%b8%d0%b9-%d0%ba%d0%be%d0%bd%d1%86%d0%b5%d1%80%d1%82/
X-WR-CALDESC:Запрошуємо на Новорічний концерт!
BEGIN:VEVENT
DTSTART:
DTEND:
SUMMARY:Запрошуємо на Новорічний концерт!
DESCRIPTION:
LOCATION:
END:VEVENT
END:VCALENDAR
