BEGIN:VCALENDAR
VERSION:2.0
PRODID:-//STU
CALSCALE:GREGORIAN
METHOD:PUBLISH
X-WR-CALNAME:STU
X-ORIGINAL-URL:https://www.nusta.edu.ua/event/%d0%b2-%d1%83%d0%bd%d1%96%d0%b2%d0%b5%d1%80%d1%81%d0%b8%d1%82%d0%b5%d1%82%d1%96-%d0%b2%d1%96%d0%b4%d0%b1%d1%83%d0%b4%d0%b5%d1%82%d1%8c%d1%81%d1%8f-%d0%b4%d0%b5%d0%bd%d1%8c-%d0%b2%d1%96%d0%b4%d0%ba-3/
X-WR-CALDESC:В Університеті відбудеться день відкритих дверей
BEGIN:VEVENT
DTSTART:20191221T000000
DTEND:
SUMMARY:В Університеті відбудеться день відкритих дверей
DESCRIPTION:
LOCATION:
END:VEVENT
END:VCALENDAR
