BEGIN:VCALENDAR
VERSION:2.0
PRODID:-//STU
CALSCALE:GREGORIAN
METHOD:PUBLISH
X-WR-CALNAME:STU
X-ORIGINAL-URL:https://www.nusta.edu.ua/event/%d0%b2%d1%96%d0%b4%d0%b1%d1%83%d0%b4%d0%b5%d1%82%d1%8c%d1%81%d1%8f-v%d1%96%d1%96-%d0%bc%d1%96%d0%b6%d0%bd%d0%b0%d1%80%d0%be%d0%b4%d0%bd%d0%b0-%d0%bd%d0%b0%d1%83%d0%ba%d0%be%d0%b2%d0%be-%d0%bf%d1%80/
X-WR-CALDESC:Відбудеться VІІ міжнародна науково-практична інтернет-конференція «Актуальні проблеми менеджменту, фінансів та публічного управління в сучасних глобалізаційних процесах»
BEGIN:VEVENT
DTSTART:20200319T000000
DTEND:
SUMMARY:Відбудеться VІІ міжнародна науково-практична інтернет-конференція «Актуальні проблеми менеджменту, фінансів та публічного управління в сучасних глобалізаційних процесах»
DESCRIPTION:
LOCATION:
END:VEVENT
END:VCALENDAR
