BEGIN:VCALENDAR
VERSION:2.0
PRODID:-//STU
CALSCALE:GREGORIAN
METHOD:PUBLISH
X-WR-CALNAME:STU
X-ORIGINAL-URL:https://www.nusta.edu.ua/event/%d0%b7%d0%bc%d1%96%d0%bd%d0%b8%d0%bb%d0%b8%d1%81%d1%8f-%d1%80%d0%b5%d0%ba%d0%b2%d1%96%d0%b7%d0%b8%d1%82%d0%b8-%d0%b4%d0%bb%d1%8f-%d0%be%d0%bf%d0%bb%d0%b0%d1%82%d0%b8-%d0%b7%d0%b0-%d0%bf%d0%be%d1%81/
X-WR-CALDESC:Змінилися реквізити для оплати за послуги господарської діяльності
BEGIN:VEVENT
DTSTART:
DTEND:
SUMMARY:Змінилися реквізити для оплати за послуги господарської діяльності
DESCRIPTION:
LOCATION:
END:VEVENT
END:VCALENDAR
