BEGIN:VCALENDAR
VERSION:2.0
PRODID:-//STU
CALSCALE:GREGORIAN
METHOD:PUBLISH
X-WR-CALNAME:STU
X-ORIGINAL-URL:https://www.nusta.edu.ua/event/%d0%bd%d0%b5-%d0%bf%d1%80%d0%be%d0%bf%d1%83%d1%81%d1%82%d0%b8-%d0%bc%d0%be%d0%b6%d0%bb%d0%b8%d0%b2%d1%96%d1%81%d1%82%d1%8c-%d0%b2%d0%b7%d1%8f%d1%82%d0%b8-%d1%83%d1%87%d0%b0%d1%81%d1%82%d1%8c-%d1%83/
X-WR-CALDESC:Не пропусти можливість взяти участь у міжнародних семінарах та відвідати низку країн!
BEGIN:VEVENT
DTSTART:
DTEND:
SUMMARY:Не пропусти можливість взяти участь у міжнародних семінарах та відвідати низку країн!
DESCRIPTION:
LOCATION:
END:VEVENT
END:VCALENDAR
