BEGIN:VCALENDAR
VERSION:2.0
PRODID:-//STU
CALSCALE:GREGORIAN
METHOD:PUBLISH
X-WR-CALNAME:STU
X-ORIGINAL-URL:https://www.nusta.edu.ua/event/%d0%b2-%d1%83%d0%b4%d1%84%d1%81%d1%83-%d0%be%d1%84%d1%96%d1%86%d1%96%d0%b9%d0%bd%d0%be-%d0%be%d0%b3%d0%be%d0%bb%d0%be%d1%88%d0%b5%d0%bd%d0%be-%d0%ba%d0%b0%d1%80%d0%b0%d0%bd%d1%82%d0%b8%d0%bd/
X-WR-CALDESC:В УДФСУ офіційно оголошено карантин!
BEGIN:VEVENT
DTSTART:
DTEND:
SUMMARY:В УДФСУ офіційно оголошено карантин!
DESCRIPTION:
LOCATION:
END:VEVENT
END:VCALENDAR
