BEGIN:VCALENDAR
VERSION:2.0
PRODID:-//STU
CALSCALE:GREGORIAN
METHOD:PUBLISH
X-WR-CALNAME:STU
X-ORIGINAL-URL:https://www.nusta.edu.ua/event/%d0%b4%d0%be%d0%bf%d0%be%d0%bc%d0%be%d0%b6%d0%b8-%d0%bf%d0%be%d0%ba%d1%80%d0%b0%d1%89%d0%b8%d1%82%d0%b8-%d0%b4%d0%b8%d1%81%d1%82%d0%b0%d0%bd%d1%86%d1%96%d0%b9%d0%bd%d0%b5-%d0%bd%d0%b0%d0%b2%d1%87/
X-WR-CALDESC:Допоможи покращити дистанційне навчання &#8211; пройди опитування!
BEGIN:VEVENT
DTSTART:
DTEND:
SUMMARY:Допоможи покращити дистанційне навчання &#8211; пройди опитування!
DESCRIPTION:
LOCATION:
END:VEVENT
END:VCALENDAR
