BEGIN:VCALENDAR
VERSION:2.0
PRODID:-//STU
CALSCALE:GREGORIAN
METHOD:PUBLISH
X-WR-CALNAME:STU
X-ORIGINAL-URL:https://www.nusta.edu.ua/event/%d0%b2%d1%96%d0%b4%d1%82%d0%b5%d0%bf%d0%b5%d1%80-%d0%bd%d0%b0%d0%b2%d1%87%d0%b0%d0%bd%d0%bd%d1%8f-%d0%b2-moodle-%d0%bc%d0%be%d0%b6%d0%bd%d0%b0-%d0%be%d0%b1%d0%b3%d0%be%d0%b2%d0%be%d1%80%d1%8e%d0%b2/
X-WR-CALDESC:Відтепер навчання в Moodle можна обговорювати у чатах!
BEGIN:VEVENT
DTSTART:
DTEND:
SUMMARY:Відтепер навчання в Moodle можна обговорювати у чатах!
DESCRIPTION:
LOCATION:
END:VEVENT
END:VCALENDAR
