BEGIN:VCALENDAR
VERSION:2.0
PRODID:-//STU
CALSCALE:GREGORIAN
METHOD:PUBLISH
X-WR-CALNAME:STU
X-ORIGINAL-URL:https://www.nusta.edu.ua/event/%d0%bf%d1%80%d0%be%d0%b9%d0%b4%d0%b5-%d1%96%d1%96-%d0%b5%d1%82%d0%b0%d0%bf-%d0%b2%d1%81%d0%b5%d1%83%d0%ba%d1%80%d0%b0%d1%97%d0%bd%d1%81%d1%8c%d0%ba%d0%be%d0%b3%d0%be-%d0%ba%d0%be%d0%bd%d0%ba%d1%83/
X-WR-CALDESC:Проходить ІІ етап Всеукраїнського конкурсу студентських наукових робіт
BEGIN:VEVENT
DTSTART:
DTEND:
SUMMARY:Проходить ІІ етап Всеукраїнського конкурсу студентських наукових робіт
DESCRIPTION:
LOCATION:
END:VEVENT
END:VCALENDAR
