BEGIN:VCALENDAR
VERSION:2.0
PRODID:-//STU
CALSCALE:GREGORIAN
METHOD:PUBLISH
X-WR-CALNAME:STU
X-ORIGINAL-URL:https://www.nusta.edu.ua/event/36520/
X-WR-CALDESC:Відтепер сплачувати за навчання та гуртожитки стало ще зручніше
BEGIN:VEVENT
DTSTART:
DTEND:
SUMMARY:Відтепер сплачувати за навчання та гуртожитки стало ще зручніше
DESCRIPTION:
LOCATION:
END:VEVENT
END:VCALENDAR
