BEGIN:VCALENDAR
VERSION:2.0
PRODID:-//STU
CALSCALE:GREGORIAN
METHOD:PUBLISH
X-WR-CALNAME:STU
X-ORIGINAL-URL:https://www.nusta.edu.ua/event/%d0%b2%d1%96%d1%82%d0%b0%d1%94%d0%bc%d0%be-%d0%bd%d1%96%d0%bd%d1%83-%d1%96%d0%b2%d0%b0%d0%bd%d1%96%d0%b2%d0%bd%d1%83-%d0%b7-%d1%8e%d0%b2%d1%96%d0%bb%d0%b5%d1%94%d0%bc/
X-WR-CALDESC:Вітаємо Ніну Іванівну з ювілеєм!
BEGIN:VEVENT
DTSTART:
DTEND:
SUMMARY:Вітаємо Ніну Іванівну з ювілеєм!
DESCRIPTION:
LOCATION:
END:VEVENT
END:VCALENDAR
