BEGIN:VCALENDAR
VERSION:2.0
PRODID:-//STU
CALSCALE:GREGORIAN
METHOD:PUBLISH
X-WR-CALNAME:STU
X-ORIGINAL-URL:https://www.nusta.edu.ua/event/%d0%ba%d0%be%d0%bb%d0%b5%d0%ba%d1%82%d0%b8%d0%b2-%d1%83%d0%b4%d1%84%d1%81%d1%83-%d0%b2%d1%96%d1%82%d0%b0%d1%94-%d1%80%d0%b5%d0%ba%d1%82%d0%be%d1%80%d0%b0-%d0%bf%d0%b0%d0%b2%d0%bb%d0%b0-%d0%bf%d0%b0/
X-WR-CALDESC:Колектив УДФСУ вітає ректора Павла Пашка з Днем народження!
BEGIN:VEVENT
DTSTART:
DTEND:
SUMMARY:Колектив УДФСУ вітає ректора Павла Пашка з Днем народження!
DESCRIPTION:
LOCATION:
END:VEVENT
END:VCALENDAR
