BEGIN:VCALENDAR
VERSION:2.0
PRODID:-//STU
CALSCALE:GREGORIAN
METHOD:PUBLISH
X-WR-CALNAME:STU
X-ORIGINAL-URL:https://www.nusta.edu.ua/event/%d0%b0%d1%81%d0%bf%d1%96%d1%80%d0%b0%d0%bd%d1%82%d1%83%d1%80%d0%b0-%d1%83%d0%b4%d1%84%d1%81%d1%83-%d0%be%d0%b3%d0%be%d0%bb%d0%be%d1%88%d1%83%d1%94-%d0%b4%d0%be%d0%b4%d0%b0%d1%82%d0%ba%d0%be%d0%b2/
X-WR-CALDESC:Аспірантура УДФСУ оголошує додатковий набір(ІІІ етап)
BEGIN:VEVENT
DTSTART:
DTEND:
SUMMARY:Аспірантура УДФСУ оголошує додатковий набір(ІІІ етап)
DESCRIPTION:
LOCATION:
END:VEVENT
END:VCALENDAR
