BEGIN:VCALENDAR
VERSION:2.0
PRODID:-//STU
CALSCALE:GREGORIAN
METHOD:PUBLISH
X-WR-CALNAME:STU
X-ORIGINAL-URL:https://www.nusta.edu.ua/event/%d1%83%d0%bd%d1%96%d0%b2%d0%b5%d1%80%d1%81%d0%b8%d1%82%d0%b5%d1%82-%d0%b4%d0%b5%d1%80%d0%b6%d0%b0%d0%b2%d0%bd%d0%be%d1%97-%d1%84%d1%96%d1%81%d0%ba%d0%b0%d0%bb%d1%8c%d0%bd%d0%be%d1%97-%d1%81%d0%bb-2/
X-WR-CALDESC:Університет запрошує на День відкритих дверей!
BEGIN:VEVENT
DTSTART:
DTEND:
SUMMARY:Університет запрошує на День відкритих дверей!
DESCRIPTION:
LOCATION:
END:VEVENT
END:VCALENDAR
