BEGIN:VCALENDAR
VERSION:2.0
PRODID:-//STU
CALSCALE:GREGORIAN
METHOD:PUBLISH
X-WR-CALNAME:STU
X-ORIGINAL-URL:https://www.nusta.edu.ua/event/%d0%b7%d0%b0%d0%bf%d1%80%d0%be%d1%88%d1%83%d1%94%d0%bc%d0%be-%d0%b2%d0%b7%d1%8f%d1%82%d0%b8-%d1%83%d1%87%d0%b0%d1%81%d1%82%d1%8c-%d1%83-%d1%80%d0%be%d0%b1%d0%be%d1%82%d1%96-%d0%ba%d1%80%d1%83%d0%b3/
X-WR-CALDESC:Запрошуємо взяти участь у роботі круглого столу
BEGIN:VEVENT
DTSTART:
DTEND:
SUMMARY:Запрошуємо взяти участь у роботі круглого столу
DESCRIPTION:
LOCATION:
END:VEVENT
END:VCALENDAR
