BEGIN:VCALENDAR
VERSION:2.0
PRODID:-//STU
CALSCALE:GREGORIAN
METHOD:PUBLISH
X-WR-CALNAME:STU
X-ORIGINAL-URL:https://www.nusta.edu.ua/event/41346/
X-WR-CALDESC:Оголошення щодо засідань Постійних комісій ВР
BEGIN:VEVENT
DTSTART:
DTEND:
SUMMARY:Оголошення щодо засідань Постійних комісій ВР
DESCRIPTION:
LOCATION:
END:VEVENT
END:VCALENDAR
