BEGIN:VCALENDAR
VERSION:2.0
PRODID:-//STU
CALSCALE:GREGORIAN
METHOD:PUBLISH
X-WR-CALNAME:STU
X-ORIGINAL-URL:https://www.nusta.edu.ua/event/%d0%b7%d0%b0%d0%bf%d1%80%d0%be%d1%88%d1%83%d1%94%d0%bc%d0%be-%d0%bd%d0%b0-%d0%ba%d1%83%d1%80%d1%81-%d0%bb%d0%b5%d0%ba%d1%86%d1%96%d0%b9-%d0%b1%d1%96%d0%b7%d0%bd%d0%b5%d1%81-%d0%be%d1%87%d0%b8/
X-WR-CALDESC:Запрошуємо на курс лекцій «Бізнес очима власника: від стартапу до IPO»
BEGIN:VEVENT
DTSTART:
DTEND:
SUMMARY:Запрошуємо на курс лекцій «Бізнес очима власника: від стартапу до IPO»
DESCRIPTION:
LOCATION:
END:VEVENT
END:VCALENDAR
