BEGIN:VCALENDAR
VERSION:2.0
PRODID:-//STU
CALSCALE:GREGORIAN
METHOD:PUBLISH
X-WR-CALNAME:STU
X-ORIGINAL-URL:https://www.nusta.edu.ua/event/28-%d0%bb%d0%b8%d1%81%d1%82%d0%be%d0%bf%d0%b0%d0%b4%d0%b0-%d0%b2%d1%96%d0%b4%d0%b1%d1%83%d0%b4%d0%b5%d1%82%d1%8c%d1%81%d1%8f-%d0%b4%d0%b5%d0%bd%d1%8c-%d0%b2%d1%96%d0%b4%d0%ba%d1%80%d0%b8%d1%82%d0%b8/
X-WR-CALDESC:28 листопада відбудеться День відкритих дверей у режимі онлайн!
BEGIN:VEVENT
DTSTART:
DTEND:
SUMMARY:28 листопада відбудеться День відкритих дверей у режимі онлайн!
DESCRIPTION:
LOCATION:
END:VEVENT
END:VCALENDAR
