BEGIN:VCALENDAR
VERSION:2.0
PRODID:-//STU
CALSCALE:GREGORIAN
METHOD:PUBLISH
X-WR-CALNAME:STU
X-ORIGINAL-URL:https://www.nusta.edu.ua/event/%d0%b7%d0%b0%d0%bf%d1%80%d0%be%d1%88%d1%83%d1%94%d0%bc%d0%be-%d0%b2%d0%b7%d1%8f%d1%82%d0%b8-%d1%83%d1%87%d0%b0%d1%81%d1%82%d1%8c-%d0%b2-%d0%bc%d1%96%d0%b6%d0%bd%d0%b0%d1%80%d0%be%d0%b4%d0%bd%d0%be/
X-WR-CALDESC:Запрошуємо взяти участь в Міжнародному податковому конгресі
BEGIN:VEVENT
DTSTART:
DTEND:
SUMMARY:Запрошуємо взяти участь в Міжнародному податковому конгресі
DESCRIPTION:
LOCATION:
END:VEVENT
END:VCALENDAR
