BEGIN:VCALENDAR
VERSION:2.0
PRODID:-//STU
CALSCALE:GREGORIAN
METHOD:PUBLISH
X-WR-CALNAME:STU
X-ORIGINAL-URL:https://www.nusta.edu.ua/event/%d1%83%d0%b2%d0%b0%d0%b3%d0%b0%d1%81%d1%82%d0%b0%d1%80%d1%82%d1%83%d1%94-iv-%d0%b2%d1%81%d0%b5%d1%83%d0%ba%d1%80%d0%b0%d1%97%d0%bd%d1%81%d1%8c%d0%ba%d0%b8%d0%b9-%d0%bc%d0%b8%d1%81%d1%82%d0%b5%d1%86/
X-WR-CALDESC:УВАГА! Стартує IV Всеукраїнський мистецький конкурс “Податкова абетка”, “Сьогодення та майбутнє податкової та митної справи”
BEGIN:VEVENT
DTSTART:
DTEND:
SUMMARY:УВАГА! Стартує IV Всеукраїнський мистецький конкурс “Податкова абетка”, “Сьогодення та майбутнє податкової та митної справи”
DESCRIPTION:
LOCATION:
END:VEVENT
END:VCALENDAR
