BEGIN:VCALENDAR
VERSION:2.0
PRODID:-//STU
CALSCALE:GREGORIAN
METHOD:PUBLISH
X-WR-CALNAME:STU
X-ORIGINAL-URL:https://www.nusta.edu.ua/event/%d0%be%d0%bf%d0%b8%d1%82%d1%83%d0%b2%d0%b0%d0%bd%d0%bd%d1%8f-%d1%89%d0%be%d0%b4%d0%be-%d0%b4%d0%b8%d1%81%d1%82%d0%b0%d0%bd%d1%86%d1%96%d0%b9%d0%bd%d0%be%d0%b3%d0%be-%d0%bd%d0%b0%d0%b2%d1%87%d0%b0/
X-WR-CALDESC:Опитування щодо дистанційного навчання
BEGIN:VEVENT
DTSTART:
DTEND:
SUMMARY:Опитування щодо дистанційного навчання
DESCRIPTION:
LOCATION:
END:VEVENT
END:VCALENDAR
