BEGIN:VCALENDAR
VERSION:2.0
PRODID:-//STU
CALSCALE:GREGORIAN
METHOD:PUBLISH
X-WR-CALNAME:STU
X-ORIGINAL-URL:https://www.nusta.edu.ua/event/%d0%bf%d1%80%d0%b8%d0%b2%d1%96%d1%82%d0%b0%d0%bd%d0%bd%d1%8f-%d1%80%d0%b5%d0%ba%d1%82%d0%be%d1%80%d0%b0-%d0%bf%d0%b0%d0%b2%d0%bb%d0%b0-%d0%bf%d0%b0%d1%88%d0%ba%d0%b0-%d0%b7-%d0%bd%d0%be%d0%b2%d0%b8/
X-WR-CALDESC:Привітання ректора Павла Пашка з Новим роком та Різдвом Христовим!
BEGIN:VEVENT
DTSTART:
DTEND:
SUMMARY:Привітання ректора Павла Пашка з Новим роком та Різдвом Христовим!
DESCRIPTION:
LOCATION:
END:VEVENT
END:VCALENDAR
