BEGIN:VCALENDAR
VERSION:2.0
PRODID:-//STU
CALSCALE:GREGORIAN
METHOD:PUBLISH
X-WR-CALNAME:STU
X-ORIGINAL-URL:https://www.nusta.edu.ua/event/%d0%b2-%d0%be-%d1%80%d0%b5%d0%ba%d1%82%d0%be%d1%80%d0%b0-%d0%b0%d0%bd%d1%82%d0%be%d0%bd-%d0%bc%d0%be%d0%bd%d0%b0%d1%94%d0%bd%d0%ba%d0%be-%d0%b2%d1%96%d1%82%d0%b0%d1%94-%d0%b7-%d0%bd%d0%be%d0%b2%d0%be/
X-WR-CALDESC:В.о. ректора Антон Монаєнко вітає з новорічними та різдвяними святами
BEGIN:VEVENT
DTSTART:
DTEND:
SUMMARY:В.о. ректора Антон Монаєнко вітає з новорічними та різдвяними святами
DESCRIPTION:
LOCATION:
END:VEVENT
END:VCALENDAR
