BEGIN:VCALENDAR
VERSION:2.0
PRODID:-//STU
CALSCALE:GREGORIAN
METHOD:PUBLISH
X-WR-CALNAME:STU
X-ORIGINAL-URL:https://www.nusta.edu.ua/event/%d0%b4%d1%80%d1%83%d0%b3%d0%b8%d0%b9-%d1%81%d0%b5%d0%bc%d0%b5%d1%81%d1%82%d1%80-%d0%b2-%d1%83%d0%bd%d1%96%d0%b2%d0%b5%d1%80%d1%81%d0%b8%d1%82%d0%b5%d1%82%d1%96-%d1%80%d0%be%d0%b7%d0%bf%d0%be%d1%87/
X-WR-CALDESC:Другий семестр в Університеті розпочнеться у дистанційному форматі
BEGIN:VEVENT
DTSTART:
DTEND:
SUMMARY:Другий семестр в Університеті розпочнеться у дистанційному форматі
DESCRIPTION:
LOCATION:
END:VEVENT
END:VCALENDAR
